BEGIN:VCALENDAR
PRODID:-//eluceo/ical//2.0/EN
VERSION:2.0
CALSCALE:GREGORIAN
BEGIN:VEVENT
UID:4a1522214fd5ea8aebd3e3ace46da20c
DTSTAMP:20260424T031234Z
SUMMARY:[weibliche D-Jugend Runde] EK Bernhausen  - CVJM SG Mössingen/Bels
 en 
URL:https://www.eichenkreuzliga.de/handball/game/id/16574
DTSTART:20240128T130000
DTEND:20240128T140000
LOCATION:Elisabeth-Selbert-Gymnasium Halle\, 70794 Bernhausen
END:VEVENT
END:VCALENDAR
