BEGIN:VCALENDAR
PRODID:-//eluceo/ical//2.0/EN
VERSION:2.0
CALSCALE:GREGORIAN
BEGIN:VEVENT
UID:c1c3e41391ee0d77ff270c97587f2297
DTSTAMP:20260424T031357Z
SUMMARY:[weibliche D-Jugend Runde] CVJM  Walddorfhäslach  - CVJM Kusterdin
 gen e.V. 
URL:https://www.eichenkreuzliga.de/handball/game/id/16723
DTSTART:20231210T141500
DTEND:20231210T151500
LOCATION:Ballspielhalle\, 72141 Walddorfhäslach
END:VEVENT
END:VCALENDAR
