BEGIN:VCALENDAR
PRODID:-//eluceo/ical//2.0/EN
VERSION:2.0
CALSCALE:GREGORIAN
BEGIN:VEVENT
UID:d1a1a1305eec65c44405abaa3ede6e65
DTSTAMP:20260422T191515Z
SUMMARY:[männliche E-Jugend Gruppe 1 2014/15] CVJM Enzweihingen  - EK Höf
 ingen 
URL:https://www.eichenkreuzliga.de/handball/game/id/1680
DTSTART:20150110T131000
DTEND:20150110T141000
LOCATION:Elisabeth-Selbert-Gymnasium Halle\, 70794 Bernhausen
END:VEVENT
END:VCALENDAR
