BEGIN:VCALENDAR
PRODID:-//eluceo/ical//2.0/EN
VERSION:2.0
CALSCALE:GREGORIAN
BEGIN:VEVENT
UID:31583fce05c6b1af90c49ec570580a7b
DTSTAMP:20260423T235206Z
SUMMARY:[Männer Landesliga] CVJM Enzweihingen  - CVJM Kirchentellinsfurt 
URL:https://www.eichenkreuzliga.de/handball/game/id/16803
DTSTART:20240309T180000
DTEND:20240309T190000
LOCATION:Schulsporthalle\, 71665 Enzweihingen
END:VEVENT
END:VCALENDAR
