BEGIN:VCALENDAR
PRODID:-//eluceo/ical//2.0/EN
VERSION:2.0
CALSCALE:GREGORIAN
BEGIN:VEVENT
UID:caf01da8c4df7dd9bbf8601c346d1a1d
DTSTAMP:20260420T175625Z
SUMMARY:[Männer Landesliga] CVJM HB Dußlingen-Gomaringen  - EK Höfingen 
URL:https://www.eichenkreuzliga.de/handball/game/id/16807
DTSTART:20231202T171500
DTEND:20231202T181500
LOCATION:Hönisch Sporthalle\, 72144 Dusslingen
END:VEVENT
END:VCALENDAR
