BEGIN:VCALENDAR
PRODID:-//eluceo/ical//2.0/EN
VERSION:2.0
CALSCALE:GREGORIAN
BEGIN:VEVENT
UID:ea2bb5cbff4bb4d8c62b0c191acb78a1
DTSTAMP:20260420T162820Z
SUMMARY:[Männer Landesliga] EK Höfingen  - CVJM HB Dußlingen-Gomaringen 
URL:https://www.eichenkreuzliga.de/handball/game/id/16808
DTSTART:20240302T180000
DTEND:20240302T190000
LOCATION:Strohgäuhalle\, 71229 Höfingen
END:VEVENT
END:VCALENDAR
