BEGIN:VCALENDAR
PRODID:-//eluceo/ical//2.0/EN
VERSION:2.0
CALSCALE:GREGORIAN
BEGIN:VEVENT
UID:544d3e45a0174d86455a0cf1d024354e
DTSTAMP:20260424T045947Z
SUMMARY:[Männer LK3] CVJM Enzweihingen 1b - CVJM Flacht 1b
URL:https://www.eichenkreuzliga.de/handball/game/id/16881
DTSTART:20231014T160000
DTEND:20231014T170000
LOCATION:Schulsporthalle\, 71665 Enzweihingen
END:VEVENT
END:VCALENDAR
