BEGIN:VCALENDAR
PRODID:-//eluceo/ical//2.0/EN
VERSION:2.0
CALSCALE:GREGORIAN
BEGIN:VEVENT
UID:93570d191d78bf2914a889655879a88d
DTSTAMP:20260424T045912Z
SUMMARY:[Männer LK3] CVJM Flacht 1b - CVJM Fellbach 
URL:https://www.eichenkreuzliga.de/handball/game/id/16887
DTSTART:20231021T171500
DTEND:20231021T181500
LOCATION:Sporthalle Flacht\, 71287 Weissach
END:VEVENT
END:VCALENDAR
