BEGIN:VCALENDAR
PRODID:-//eluceo/ical//2.0/EN
VERSION:2.0
CALSCALE:GREGORIAN
BEGIN:VEVENT
UID:55b64f96f7b33ba425182f36f7efee29
DTSTAMP:20260424T050009Z
SUMMARY:[Männer LK3] CVJM Hülben  - CVJM Flacht 1b
URL:https://www.eichenkreuzliga.de/handball/game/id/16890
DTSTART:20231105T180000
DTEND:20231105T190000
LOCATION:Falkensteinhalle\, 72582 Grabenstetten
END:VEVENT
END:VCALENDAR
