BEGIN:VCALENDAR
PRODID:-//eluceo/ical//2.0/EN
VERSION:2.0
CALSCALE:GREGORIAN
BEGIN:VEVENT
UID:3da4526cfeba341d654047e9fb68c907
DTSTAMP:20260424T045647Z
SUMMARY:[Männer LK3] CVJM Flacht 1b - SG Grunbach Winterbach 
URL:https://www.eichenkreuzliga.de/handball/game/id/16892
DTSTART:20231111T171500
DTEND:20231111T181500
LOCATION:Sporthalle Flacht\, 71287 Weissach
END:VEVENT
END:VCALENDAR
