BEGIN:VCALENDAR
PRODID:-//eluceo/ical//2.0/EN
VERSION:2.0
CALSCALE:GREGORIAN
BEGIN:VEVENT
UID:40fac204e04cbb306c51b413e6969124
DTSTAMP:20260424T031118Z
SUMMARY:[Männer LK3] CVJM Enzweihingen 1b - CVJM Fellbach 
URL:https://www.eichenkreuzliga.de/handball/game/id/16897
DTSTART:20240224T180000
DTEND:20240224T190000
LOCATION:Schulsporthalle\, 71665 Enzweihingen
END:VEVENT
END:VCALENDAR
