BEGIN:VCALENDAR
PRODID:-//eluceo/ical//2.0/EN
VERSION:2.0
CALSCALE:GREGORIAN
BEGIN:VEVENT
UID:b5091ed4bcabbdb5fa135da8d2553228
DTSTAMP:20260424T031234Z
SUMMARY:[Männer LK3] CVJM Flacht 1b - CVJM SG Mössingen/Belsen 1b
URL:https://www.eichenkreuzliga.de/handball/game/id/16898
DTSTART:20231125T160000
DTEND:20231125T170000
LOCATION:Sporthalle Flacht\, 71287 Weissach
END:VEVENT
END:VCALENDAR
