BEGIN:VCALENDAR
PRODID:-//eluceo/ical//2.0/EN
VERSION:2.0
CALSCALE:GREGORIAN
BEGIN:VEVENT
UID:2cd058a8b17a4c07863d48d09c3c46de
DTSTAMP:20260424T031356Z
SUMMARY:[Männer LK3] CVJM Hülben  - CVJM Enzweihingen 1b
URL:https://www.eichenkreuzliga.de/handball/game/id/16905
DTSTART:20240317T163000
DTEND:20240317T173000
LOCATION:Falkensteinhalle\, 72582 Grabenstetten
END:VEVENT
END:VCALENDAR
