BEGIN:VCALENDAR
PRODID:-//eluceo/ical//2.0/EN
VERSION:2.0
CALSCALE:GREGORIAN
BEGIN:VEVENT
UID:21fedf4c88c6504ab9f473f38798c38f
DTSTAMP:20260424T031256Z
SUMMARY:[Männer LK3] CVJM SG Mössingen/Belsen 1b - CVJM Hülben 
URL:https://www.eichenkreuzliga.de/handball/game/id/16915
DTSTART:20231022T161500
DTEND:20231022T171500
LOCATION:Jahnhalle 2\, 72116 Mössingen
END:VEVENT
END:VCALENDAR
