BEGIN:VCALENDAR
PRODID:-//eluceo/ical//2.0/EN
VERSION:2.0
CALSCALE:GREGORIAN
BEGIN:VEVENT
UID:d2613ea7041eb55c2cc1878f761d80ba
DTSTAMP:20260424T030428Z
SUMMARY:[Männer LK4] CVJM SG Mössingen/Belsen 1c - CVJM Fellbach 1b
URL:https://www.eichenkreuzliga.de/handball/game/id/16922
DTSTART:20231022T143000
DTEND:20231022T153000
LOCATION:Jahnhalle 2\, 72116 Mössingen
END:VEVENT
END:VCALENDAR
