BEGIN:VCALENDAR
PRODID:-//eluceo/ical//2.0/EN
VERSION:2.0
CALSCALE:GREGORIAN
BEGIN:VEVENT
UID:4f1fad0060e1aba1df4e194f5bfeea73
DTSTAMP:20260424T030427Z
SUMMARY:[Männer LK4] CVJM Fellbach 1b - CVJM SG Mössingen/Belsen 1c
URL:https://www.eichenkreuzliga.de/handball/game/id/16923
DTSTART:20240316T000000
DTEND:20240316T010000
LOCATION:Zeppelinhalle\, 70734 Fellbach
END:VEVENT
END:VCALENDAR
