BEGIN:VCALENDAR
PRODID:-//eluceo/ical//2.0/EN
VERSION:2.0
CALSCALE:GREGORIAN
BEGIN:VEVENT
UID:63d36ca2006162d988b2a63a9c69cb62
DTSTAMP:20260424T011643Z
SUMMARY:[Männer LK4] CVJM Möglingen  - CVJM SG Mössingen/Belsen 1c
URL:https://www.eichenkreuzliga.de/handball/game/id/16931
DTSTART:20240413T000000
DTEND:20240413T010000
LOCATION:Stadionhalle\, 71696 Möglingen
END:VEVENT
END:VCALENDAR
