BEGIN:VCALENDAR
PRODID:-//eluceo/ical//2.0/EN
VERSION:2.0
CALSCALE:GREGORIAN
BEGIN:VEVENT
UID:71050702f047376fbc2b8b3f28cfc5a1
DTSTAMP:20260424T011643Z
SUMMARY:[Männer LK4] CVJM Wildberg  - CVJM SG Mössingen/Belsen 1c
URL:https://www.eichenkreuzliga.de/handball/game/id/16935
DTSTART:20240407T160000
DTEND:20240407T170000
LOCATION:Sporthalle Wildberg\, 72218 Wildberg
END:VEVENT
END:VCALENDAR
