BEGIN:VCALENDAR
PRODID:-//eluceo/ical//2.0/EN
VERSION:2.0
CALSCALE:GREGORIAN
BEGIN:VEVENT
UID:609cf96194818e828199e33e6ac8f97a
DTSTAMP:20260424T011643Z
SUMMARY:[männliche A-Jugend Runde] CVJM  Walddorfhäslach  - CVJM Hagelloc
 h SG Hagelloch/Kusterdingen
URL:https://www.eichenkreuzliga.de/handball/game/id/16960
DTSTART:20231014T151500
DTEND:20231014T161500
LOCATION:Ballspielhalle\, 72141 Walddorfhäslach
END:VEVENT
END:VCALENDAR
