BEGIN:VCALENDAR
PRODID:-//eluceo/ical//2.0/EN
VERSION:2.0
CALSCALE:GREGORIAN
BEGIN:VEVENT
UID:1ec7dbea130cf62e997b46dc8543f58d
DTSTAMP:20260424T011635Z
SUMMARY:[männliche A-Jugend Runde] CVJM Hagelloch SG Hagelloch/Kusterdinge
 n - CVJM HB Dußlingen-Gomaringen 
URL:https://www.eichenkreuzliga.de/handball/game/id/16972
DTSTART:20240120T171500
DTEND:20240120T181500
LOCATION:Sporthalle Waldhäuser-Ost\, 72076 Tübingen
END:VEVENT
END:VCALENDAR
