BEGIN:VCALENDAR
PRODID:-//eluceo/ical//2.0/EN
VERSION:2.0
CALSCALE:GREGORIAN
BEGIN:VEVENT
UID:883c1aacee133d524a2a5e0f628e81b0
DTSTAMP:20260424T045850Z
SUMMARY:[männliche A-Jugend Runde] CVJM Enzweihingen  - CVJM Hagelloch SG 
 Hagelloch/Kusterdingen
URL:https://www.eichenkreuzliga.de/handball/game/id/16979
DTSTART:20240127T140000
DTEND:20240127T150000
LOCATION:Schulsporthalle\, 71665 Enzweihingen
END:VEVENT
END:VCALENDAR
