BEGIN:VCALENDAR
PRODID:-//eluceo/ical//2.0/EN
VERSION:2.0
CALSCALE:GREGORIAN
BEGIN:VEVENT
UID:b6aef96018172f40fa5de4bd327396cf
DTSTAMP:20260424T102414Z
SUMMARY:[männliche B-Jugend Runde] CVJM  Walddorfhäslach  - CVJM Wildberg
  a.K.
URL:https://www.eichenkreuzliga.de/handball/game/id/17023
DTSTART:20231015T161500
DTEND:20231015T171500
LOCATION:Ballspielhalle\, 72141 Walddorfhäslach
END:VEVENT
END:VCALENDAR
