BEGIN:VCALENDAR
PRODID:-//eluceo/ical//2.0/EN
VERSION:2.0
CALSCALE:GREGORIAN
BEGIN:VEVENT
UID:f4bb22f7a2eb846cfa3a41248de3c5e0
DTSTAMP:20260424T084437Z
SUMMARY:[männliche B-Jugend Runde] CVJM HB Dußlingen-Gomaringen  - EK Kö
 ngen 
URL:https://www.eichenkreuzliga.de/handball/game/id/17030
DTSTART:20231021T171500
DTEND:20231021T181500
LOCATION:Hönisch Sporthalle\, 72144 Dusslingen
END:VEVENT
END:VCALENDAR
