BEGIN:VCALENDAR
PRODID:-//eluceo/ical//2.0/EN
VERSION:2.0
CALSCALE:GREGORIAN
BEGIN:VEVENT
UID:b63025bab021ba34da98eb4229db64f9
DTSTAMP:20260424T064555Z
SUMMARY:[männliche B-Jugend Runde] CVJM HB Dußlingen-Gomaringen  - EJW M
 ünchingen 
URL:https://www.eichenkreuzliga.de/handball/game/id/17032
DTSTART:20231118T114000
DTEND:20231118T124000
LOCATION:Hönisch Sporthalle\, 72144 Dusslingen
END:VEVENT
END:VCALENDAR
