BEGIN:VCALENDAR
PRODID:-//eluceo/ical//2.0/EN
VERSION:2.0
CALSCALE:GREGORIAN
BEGIN:VEVENT
UID:349d1a2759760e947e8bc5540b28c30c
DTSTAMP:20260424T030336Z
SUMMARY:[männliche B-Jugend Runde] EJW Münchingen  - CVJM Wildberg a.K.
URL:https://www.eichenkreuzliga.de/handball/game/id/17038
DTSTART:20231203T160000
DTEND:20231203T170000
LOCATION:Sporthalle Münchingen\, 70825 Korntal-Münchingen
END:VEVENT
END:VCALENDAR
