BEGIN:VCALENDAR
PRODID:-//eluceo/ical//2.0/EN
VERSION:2.0
CALSCALE:GREGORIAN
BEGIN:VEVENT
UID:5250e720b96c5ad4597276a5e83060c4
DTSTAMP:20260424T031234Z
SUMMARY:[männliche B-Jugend Runde] EJW Münchingen  - CVJM Flacht 
URL:https://www.eichenkreuzliga.de/handball/game/id/17050
DTSTART:20240225T150000
DTEND:20240225T160000
LOCATION:Sporthalle Münchingen\, 70825 Korntal-Münchingen
END:VEVENT
END:VCALENDAR
