BEGIN:VCALENDAR
PRODID:-//eluceo/ical//2.0/EN
VERSION:2.0
CALSCALE:GREGORIAN
BEGIN:VEVENT
UID:2e5a9761e8de7c46b3a4fca82579b749
DTSTAMP:20260424T102252Z
SUMMARY:[männliche B-Jugend Runde] EK Köngen  - CVJM  Walddorfhäslach 
URL:https://www.eichenkreuzliga.de/handball/game/id/17056
DTSTART:20240203T173000
DTEND:20240203T183000
LOCATION:Burgschulhalle\, 73257 Köngen
END:VEVENT
END:VCALENDAR
