BEGIN:VCALENDAR
PRODID:-//eluceo/ical//2.0/EN
VERSION:2.0
CALSCALE:GREGORIAN
BEGIN:VEVENT
UID:7a07f645484886f5f5a65a5780789462
DTSTAMP:20260424T030336Z
SUMMARY:[männliche B-Jugend Runde] CVJM Wildberg a.K. - EK Bernhausen 
URL:https://www.eichenkreuzliga.de/handball/game/id/17060
DTSTART:20240114T153000
DTEND:20240114T163000
LOCATION:Sporthalle Wildberg\, 72218 Wildberg
END:VEVENT
END:VCALENDAR
