BEGIN:VCALENDAR
PRODID:-//eluceo/ical//2.0/EN
VERSION:2.0
CALSCALE:GREGORIAN
BEGIN:VEVENT
UID:488277d1993634d9333b7b97765d8e20
DTSTAMP:20260424T043305Z
SUMMARY:[männliche C-Jugend Runde] EK Köngen  - CVJM Fellbach 
URL:https://www.eichenkreuzliga.de/handball/game/id/17073
DTSTART:20240203T160000
DTEND:20240203T170000
LOCATION:Burgschulhalle\, 73257 Köngen
END:VEVENT
END:VCALENDAR
