BEGIN:VCALENDAR
PRODID:-//eluceo/ical//2.0/EN
VERSION:2.0
CALSCALE:GREGORIAN
BEGIN:VEVENT
UID:a47fbd8b973835fb6e11cb530f93843e
DTSTAMP:20260424T023923Z
SUMMARY:[männliche C-Jugend Runde] CVJM HB Dußlingen-Gomaringen 1 - CVJM 
  Walddorfhäslach 
URL:https://www.eichenkreuzliga.de/handball/game/id/17092
DTSTART:20240203T151500
DTEND:20240203T161500
LOCATION:Hönisch Sporthalle\, 72144 Dusslingen
END:VEVENT
END:VCALENDAR
