BEGIN:VCALENDAR
PRODID:-//eluceo/ical//2.0/EN
VERSION:2.0
CALSCALE:GREGORIAN
BEGIN:VEVENT
UID:b54273c54b6e6dedea225202535a6027
DTSTAMP:20260424T043212Z
SUMMARY:[männliche C-Jugend Runde] CVJM SG Mössingen/Belsen  - CVJM  Wald
 dorfhäslach 
URL:https://www.eichenkreuzliga.de/handball/game/id/17093
DTSTART:20240120T143000
DTEND:20240120T153000
LOCATION:Jahnhalle 2\, 72116 Mössingen
END:VEVENT
END:VCALENDAR
