BEGIN:VCALENDAR
PRODID:-//eluceo/ical//2.0/EN
VERSION:2.0
CALSCALE:GREGORIAN
BEGIN:VEVENT
UID:43f6ff1a2601ef17040a6e61b6e3ca63
DTSTAMP:20260424T011635Z
SUMMARY:[männliche C-Jugend Runde] CVJM HB Dußlingen-Gomaringen 1 - CVJM 
 SG Mössingen/Belsen 
URL:https://www.eichenkreuzliga.de/handball/game/id/17095
DTSTART:20231203T150000
DTEND:20231203T160000
LOCATION:Hönisch Sporthalle\, 72144 Dusslingen
END:VEVENT
END:VCALENDAR
