BEGIN:VCALENDAR
PRODID:-//eluceo/ical//2.0/EN
VERSION:2.0
CALSCALE:GREGORIAN
BEGIN:VEVENT
UID:f19365a44b97f1554a873c3c6769c2c1
DTSTAMP:20260424T045850Z
SUMMARY:[weibliche B-Jugend Runde] EJW Münchingen  - CVJM Kusterdingen e.V
 . Kusterdingen-Hagelloch
URL:https://www.eichenkreuzliga.de/handball/game/id/17170
DTSTART:20240128T130000
DTEND:20240128T140000
LOCATION:Sporthalle Münchingen\, 70825 Korntal-Münchingen
END:VEVENT
END:VCALENDAR
