BEGIN:VCALENDAR
PRODID:-//eluceo/ical//2.0/EN
VERSION:2.0
CALSCALE:GREGORIAN
BEGIN:VEVENT
UID:2dc75cf53f7c87ddafa1367691639828
DTSTAMP:20260421T004006Z
SUMMARY:[weibliche B-Jugend Finalspiele] CVJM Möglingen  - EJW Münchingen
  
URL:https://www.eichenkreuzliga.de/handball/game/id/17180
DTSTART:20240421T150000
DTEND:20240421T160000
LOCATION:Sporthalle Münchingen\, 70825 Korntal-Münchingen
END:VEVENT
END:VCALENDAR
