BEGIN:VCALENDAR
PRODID:-//eluceo/ical//2.0/EN
VERSION:2.0
CALSCALE:GREGORIAN
BEGIN:VEVENT
UID:d2e221043508fb502685b1981e53f9a3
DTSTAMP:20260424T030427Z
SUMMARY:[männliche B-Jugend Runde] EK Köngen  - CVJM Flacht 
URL:https://www.eichenkreuzliga.de/handball/game/id/17242
DTSTART:20240120T150000
DTEND:20240120T160000
LOCATION:Burgschulhalle\, 73257 Köngen
END:VEVENT
END:VCALENDAR
