BEGIN:VCALENDAR
PRODID:-//eluceo/ical//2.0/EN
VERSION:2.0
CALSCALE:GREGORIAN
BEGIN:VEVENT
UID:27d9c2aff8b6e4a33e7f443ee4327742
DTSTAMP:20260424T045911Z
SUMMARY:[Männer LK3] CVJM Flacht 1b - CVJM Enzweihingen 1b
URL:https://www.eichenkreuzliga.de/handball/game/id/17247
DTSTART:20240302T170000
DTEND:20240302T180000
LOCATION:Sporthalle Flacht\, 71287 Weissach
END:VEVENT
END:VCALENDAR
