BEGIN:VCALENDAR
PRODID:-//eluceo/ical//2.0/EN
VERSION:2.0
CALSCALE:GREGORIAN
BEGIN:VEVENT
UID:4b25fab07f76b62efd198fc940acb2a7
DTSTAMP:20260424T030336Z
SUMMARY:[Männer LK3] CVJM Fellbach  - CVJM Enzweihingen 1b
URL:https://www.eichenkreuzliga.de/handball/game/id/17341
DTSTART:20240428T170000
DTEND:20240428T180000
LOCATION:Zeppelinhalle\, 70734 Fellbach
END:VEVENT
END:VCALENDAR
