BEGIN:VCALENDAR
PRODID:-//eluceo/ical//2.0/EN
VERSION:2.0
CALSCALE:GREGORIAN
BEGIN:VEVENT
UID:29c81c48c0777776256d3de9b5f995d7
DTSTAMP:20260421T095533Z
SUMMARY:[Herren LK1] CVJM Weissach  - CVJM Holzgerlingen 
URL:https://www.eichenkreuzliga.de/fussball/game/id/17403
DTSTART:20240609T180000
DTEND:20240609T190000
LOCATION:\,  
END:VEVENT
END:VCALENDAR
