BEGIN:VCALENDAR
PRODID:-//eluceo/ical//2.0/EN
VERSION:2.0
CALSCALE:GREGORIAN
BEGIN:VEVENT
UID:9a05d8d0105fcf8d1b9b811f48844026
DTSTAMP:20260420T162906Z
SUMMARY:[Männer Landesliga] EK Höfingen  - EK Köngen 
URL:https://www.eichenkreuzliga.de/handball/game/id/17408
DTSTART:20240323T180000
DTEND:20240323T190000
LOCATION:Strohgäuhalle\, 71229 Höfingen
END:VEVENT
END:VCALENDAR
