BEGIN:VCALENDAR
PRODID:-//eluceo/ical//2.0/EN
VERSION:2.0
CALSCALE:GREGORIAN
BEGIN:VEVENT
UID:2a386e2188dd5edbd36df4a5ba50d807
DTSTAMP:20260424T011635Z
SUMMARY:[Männer LK3] CVJM SG Mössingen/Belsen 1b - CVJM Enzweihingen 1b
URL:https://www.eichenkreuzliga.de/handball/game/id/17420
DTSTART:20240421T180000
DTEND:20240421T190000
LOCATION:Jahnhalle 2\, 72116 Mössingen
END:VEVENT
END:VCALENDAR
