BEGIN:VCALENDAR
PRODID:-//eluceo/ical//2.0/EN
VERSION:2.0
CALSCALE:GREGORIAN
BEGIN:VEVENT
UID:de9a753ab8eb109885357de03a67b0e5
DTSTAMP:20260422T113607Z
SUMMARY:[Frauen Landesliga] CVJM HB Dußlingen-Gomaringen 2 - CVJM HB Dußl
 ingen-Gomaringen 1
URL:https://www.eichenkreuzliga.de/handball/game/id/17939
DTSTART:20250405T170000
DTEND:20250405T180000
LOCATION:Hönisch Sporthalle\, 72144 Dusslingen
END:VEVENT
END:VCALENDAR
