BEGIN:VCALENDAR
PRODID:-//eluceo/ical//2.0/EN
VERSION:2.0
CALSCALE:GREGORIAN
BEGIN:VEVENT
UID:a82d45a3f2f2cf51155d51897df336c4
DTSTAMP:20260422T125430Z
SUMMARY:[Männer Landesliga] CVJM HB Dußlingen-Gomaringen  - CVJM SG Möss
 ingen/Belsen 
URL:https://www.eichenkreuzliga.de/handball/game/id/18201
DTSTART:20250405T190000
DTEND:20250405T200000
LOCATION:Hönisch Sporthalle\, 72144 Dusslingen
END:VEVENT
END:VCALENDAR
