BEGIN:VCALENDAR
PRODID:-//eluceo/ical//2.0/EN
VERSION:2.0
CALSCALE:GREGORIAN
BEGIN:VEVENT
UID:e10b80795d0781812af4a96d7c889fa9
DTSTAMP:20260421T082956Z
SUMMARY:[Herren Pokalrunde] EK Wolfschlugen  - CSV Kirchheim 
URL:https://www.eichenkreuzliga.de/fussball/game/id/18489
DTSTART:20241117T140000
DTEND:20241117T150000
LOCATION:\,  
END:VEVENT
END:VCALENDAR
