BEGIN:VCALENDAR
PRODID:-//eluceo/ical//2.0/EN
VERSION:2.0
CALSCALE:GREGORIAN
BEGIN:VEVENT
UID:8bba4f77e32e21b1dbe3d3cd62df96e4
DTSTAMP:20260422T191515Z
SUMMARY:[weibliche D-Jugend Vorrunde 2014/15] CVJM Kirchentellinsfurt  - CV
 JM  Walddorfhäslach 
URL:https://www.eichenkreuzliga.de/handball/game/id/1880
DTSTART:20141129T140000
DTEND:20141129T150000
LOCATION:Elisabeth-Selbert-Gymnasium Halle\, 70794 Bernhausen
END:VEVENT
END:VCALENDAR
