BEGIN:VCALENDAR
PRODID:-//eluceo/ical//2.0/EN
VERSION:2.0
CALSCALE:GREGORIAN
BEGIN:VEVENT
UID:85c3b56bd01598ed9889d2a16f6e34db
DTSTAMP:20260421T083223Z
SUMMARY:[männliche E-Jugend Runde] CVJM  Walddorfhäslach  - CVJM Ploching
 en a.K.
URL:https://www.eichenkreuzliga.de/handball/game/id/18882
DTSTART:20260321T130000
DTEND:20260321T140000
LOCATION:Burgschulhalle\, 73257 Köngen
END:VEVENT
END:VCALENDAR
