BEGIN:VCALENDAR
PRODID:-//eluceo/ical//2.0/EN
VERSION:2.0
CALSCALE:GREGORIAN
BEGIN:VEVENT
UID:0a8afd73b0be2e26e1734aa2e5b7b106
DTSTAMP:20260421T083413Z
SUMMARY:[männliche E-Jugend Runde] CVJM Plochingen a.K. - EK Köngen 
URL:https://www.eichenkreuzliga.de/handball/game/id/18884
DTSTART:20260321T142000
DTEND:20260321T152000
LOCATION:Burgschulhalle\, 73257 Köngen
END:VEVENT
END:VCALENDAR
