BEGIN:VCALENDAR
PRODID:-//eluceo/ical//2.0/EN
VERSION:2.0
CALSCALE:GREGORIAN
BEGIN:VEVENT
UID:1383482c63b605bd27ff965cf75e8209
DTSTAMP:20260421T083418Z
SUMMARY:[männliche E-Jugend Runde] CVJM Kirchentellinsfurt  - CVJM  Walddo
 rfhäslach 
URL:https://www.eichenkreuzliga.de/handball/game/id/18885
DTSTART:20260321T145000
DTEND:20260321T155000
LOCATION:Burgschulhalle\, 73257 Köngen
END:VEVENT
END:VCALENDAR
