BEGIN:VCALENDAR
PRODID:-//eluceo/ical//2.0/EN
VERSION:2.0
CALSCALE:GREGORIAN
BEGIN:VEVENT
UID:cbf0545f636cbdd358d63790260a96b1
DTSTAMP:20260421T083428Z
SUMMARY:[männliche E-Jugend Runde] CVJM SG Mössingen/Belsen a.K. - CVJM H
 B Dußlingen-Gomaringen 2 A.K.
URL:https://www.eichenkreuzliga.de/handball/game/id/18888
DTSTART:20260314T144000
DTEND:20260314T154000
LOCATION:Jahnhalle 2\, 72116 Mössingen
END:VEVENT
END:VCALENDAR
