BEGIN:VCALENDAR
PRODID:-//eluceo/ical//2.0/EN
VERSION:2.0
CALSCALE:GREGORIAN
BEGIN:VEVENT
UID:79dc0142409f9764540012ad3f695229
DTSTAMP:20260421T083322Z
SUMMARY:[Frauen Landesliga] CVJM Kirchentellinsfurt  - SG Hagelloch/Kusterd
 ingen 
URL:https://www.eichenkreuzliga.de/handball/game/id/19165
DTSTART:20260315T160000
DTEND:20260315T170000
LOCATION:Sporthalle\, 72138 Kirchentellinsfurt
END:VEVENT
END:VCALENDAR
