BEGIN:VCALENDAR
PRODID:-//eluceo/ical//2.0/EN
VERSION:2.0
CALSCALE:GREGORIAN
BEGIN:VEVENT
UID:2a4eef4552d0385db265e63a876d6b08
DTSTAMP:20260422T085827Z
SUMMARY:[Herren LK2] CVJM Dettingen/Erms  - CVJM Möglingen 
URL:https://www.eichenkreuzliga.de/fussball/game/id/19206
DTSTART:20251005T160000
DTEND:20251005T170000
LOCATION:\,  
END:VEVENT
END:VCALENDAR
